BEGIN:VCALENDAR
VERSION:2.0
PRODID:-//Carroll County Arts Council - ECPv6.15.20//NONSGML v1.0//EN
CALSCALE:GREGORIAN
METHOD:PUBLISH
X-ORIGINAL-URL:https://carrollcountyartscouncil.org
X-WR-CALDESC:Events for Carroll County Arts Council
REFRESH-INTERVAL;VALUE=DURATION:PT1H
X-Robots-Tag:noindex
X-PUBLISHED-TTL:PT1H
BEGIN:VTIMEZONE
TZID:America/New_York
BEGIN:DAYLIGHT
TZOFFSETFROM:-0500
TZOFFSETTO:-0400
TZNAME:EDT
DTSTART:20250309T070000
END:DAYLIGHT
BEGIN:STANDARD
TZOFFSETFROM:-0400
TZOFFSETTO:-0500
TZNAME:EST
DTSTART:20251102T060000
END:STANDARD
BEGIN:DAYLIGHT
TZOFFSETFROM:-0500
TZOFFSETTO:-0400
TZNAME:EDT
DTSTART:20260308T070000
END:DAYLIGHT
BEGIN:STANDARD
TZOFFSETFROM:-0400
TZOFFSETTO:-0500
TZNAME:EST
DTSTART:20261101T060000
END:STANDARD
BEGIN:DAYLIGHT
TZOFFSETFROM:-0500
TZOFFSETTO:-0400
TZNAME:EDT
DTSTART:20270314T070000
END:DAYLIGHT
BEGIN:STANDARD
TZOFFSETFROM:-0400
TZOFFSETTO:-0500
TZNAME:EST
DTSTART:20271107T060000
END:STANDARD
END:VTIMEZONE
BEGIN:VEVENT
DTSTART;TZID=America/New_York:20260426T190000
DTEND;TZID=America/New_York:20260426T210000
DTSTAMP:20260420T200918
CREATED:20260216T181203Z
LAST-MODIFIED:20260216T181203Z
UID:10007293-1777230000-1777237200@carrollcountyartscouncil.org
SUMMARY:College Choir Concert
DESCRIPTION:The McDaniel College Choir performs its spring concert\, under the direction of Senior Lecturer Kyle Engler\, featuring music from around the world\, including Argentina\, India\, Scotland\, Austria\, Germany\, and more.
URL:https://carrollcountyartscouncil.org/event/college-choir-concert/
LOCATION:(Big) Baker Memorial Chapel\, McDaniel College 2 College Hill\, Westminster\, MD\, 21157\, United States
CATEGORIES:Community Arts Events
GEO:39.5837179;-77.0023989
X-APPLE-STRUCTURED-LOCATION;VALUE=URI;X-ADDRESS=(Big) Baker Memorial Chapel McDaniel College 2 College Hill Westminster MD 21157 United States;X-APPLE-RADIUS=500;X-TITLE=McDaniel College 2 College Hill:geo:-77.0023989,39.5837179
END:VEVENT
BEGIN:VEVENT
DTSTART;TZID=America/New_York:20260428T190000
DTEND;TZID=America/New_York:20260428T200000
DTSTAMP:20260420T200918
CREATED:20260216T180756Z
LAST-MODIFIED:20260216T180756Z
UID:10007294-1777402800-1777406400@carrollcountyartscouncil.org
SUMMARY:Student African Drum Ensembles
DESCRIPTION:Students in McDaniel College’s Student African Drum Ensembles perform\, under the direction of Senior Adjunct Lecturer Pape Demba “Paco” Samb
URL:https://carrollcountyartscouncil.org/event/student-african-drum-ensembles/
LOCATION:(Big) Baker Memorial Chapel\, McDaniel College 2 College Hill\, Westminster\, MD\, 21157\, United States
CATEGORIES:Community Arts Events
GEO:39.5837179;-77.0023989
X-APPLE-STRUCTURED-LOCATION;VALUE=URI;X-ADDRESS=(Big) Baker Memorial Chapel McDaniel College 2 College Hill Westminster MD 21157 United States;X-APPLE-RADIUS=500;X-TITLE=McDaniel College 2 College Hill:geo:-77.0023989,39.5837179
END:VEVENT
END:VCALENDAR