BEGIN:VCALENDAR
VERSION:2.0
PRODID:-//Carroll County Arts Council - ECPv6.15.20//NONSGML v1.0//EN
CALSCALE:GREGORIAN
METHOD:PUBLISH
X-ORIGINAL-URL:https://carrollcountyartscouncil.org
X-WR-CALDESC:Events for Carroll County Arts Council
REFRESH-INTERVAL;VALUE=DURATION:PT1H
X-Robots-Tag:noindex
X-PUBLISHED-TTL:PT1H
BEGIN:VTIMEZONE
TZID:America/New_York
BEGIN:DAYLIGHT
TZOFFSETFROM:-0500
TZOFFSETTO:-0400
TZNAME:EDT
DTSTART:20250309T070000
END:DAYLIGHT
BEGIN:STANDARD
TZOFFSETFROM:-0400
TZOFFSETTO:-0500
TZNAME:EST
DTSTART:20251102T060000
END:STANDARD
BEGIN:DAYLIGHT
TZOFFSETFROM:-0500
TZOFFSETTO:-0400
TZNAME:EDT
DTSTART:20260308T070000
END:DAYLIGHT
BEGIN:STANDARD
TZOFFSETFROM:-0400
TZOFFSETTO:-0500
TZNAME:EST
DTSTART:20261101T060000
END:STANDARD
BEGIN:DAYLIGHT
TZOFFSETFROM:-0500
TZOFFSETTO:-0400
TZNAME:EDT
DTSTART:20270314T070000
END:DAYLIGHT
BEGIN:STANDARD
TZOFFSETFROM:-0400
TZOFFSETTO:-0500
TZNAME:EST
DTSTART:20271107T060000
END:STANDARD
END:VTIMEZONE
BEGIN:VEVENT
DTSTART;TZID=America/New_York:20260424T200000
DTEND;TZID=America/New_York:20260424T223000
DTSTAMP:20260420T235656
CREATED:20260226T183729Z
LAST-MODIFIED:20260226T183729Z
UID:10007684-1777060800-1777069800@carrollcountyartscouncil.org
SUMMARY:Fine Tuned Presents: Noah Pierre Band and Taisha Estrada
DESCRIPTION:FRIDAY\, APRIL 24\, 2026\nat City Park Gaming and Brew Room \nFine Tuned Presents:\nNoah Pierre Band and Taisha Estrada \nDoors at 7:00 – Show at 8:00\nTickets $20 – $30: Pay What You Can Sliding Scale\nCity Park Gaming and Brew Room Address: 133 E Main St Suite 1G Rear\, Westminster\, MD 21157 \nGritty jazz\, funk\, latin\, and soul by Baltimore’s most extraordinary rising talents. \nAbout Noah Pierre Band:\nThe Noah Pierre Band is a collective of musicians from all over the DMV. Embracing the traditions of jazz\, soul\, rock and other styles\, the group released their sophomore album\, “Inwards”\, in February. Since January 2025\, the band has toured the United States backing Jarrod Lawson\, including performances at Atlanta Jazz Festival and Rochester Jazz Festival. Noah Pierre Band was featured in the Maryland Music Awards and appeared on WBALTV in December 2024. Noah Pierre Band is composed of Noah Pierre on guitar and vocals\, Ricky Jefferson on keys\, Oliver Unger on bass\, Mike Paxton on saxophone and Jordon Stanley on drums. Noah Pierre endorses PRS guitars. \nAbout Taisha Estrada:\nNamed a 2025 Tiny Desk Top Shelf artist\, Puerto Rican singer-songwriter Taisha Estrada has quickly emerged as a standout voice in the DMV music scene. Her electrifying stage presence\, genre-fluid vocals\, and emotionally raw bilingual lyricism leave a lasting impression. \nTickets
URL:https://carrollcountyartscouncil.org/event/fine-tuned-presents-noah-pierre-band-and-taisha-estrada/
LOCATION:City Park Gaming and Brew Room\, 133 E Main St Suite 1G Rear\, Westminster\, MD\, 21157\, United States
CATEGORIES:Community Arts Events
ATTACH;FMTTYPE=image/png:https://carrollcountyartscouncil.org/wp-content/uploads/2026/02/Fine-Tuned-Presents-Noah-Pierre-Band-and-Taisha-Estrada-tickets-1.png
END:VEVENT
BEGIN:VEVENT
DTSTART;TZID=America/New_York:20260426T140000
DTEND;TZID=America/New_York:20260426T153000
DTSTAMP:20260420T235656
CREATED:20260216T181413Z
LAST-MODIFIED:20260216T181413Z
UID:10007672-1777212000-1777217400@carrollcountyartscouncil.org
SUMMARY:Children's Chorus of Carroll County's Spring Concert: A 40th Celebration
DESCRIPTION:Celebrating 40 years of Children’s Song!\nCome to our FREE Concert full of music that will lift your heart. \nMore Information
URL:https://carrollcountyartscouncil.org/event/childrens-chorus-of-carroll-countys-spring-concert-a-40th-celebration/
LOCATION:Saint Joseph Catholic Church\, 915 Liberty Road\, Eldersburg\, MD\, 21784\, United States
CATEGORIES:Community Arts Events
ATTACH;FMTTYPE=image/png:https://carrollcountyartscouncil.org/wp-content/uploads/2026/02/Save-the-Date-40th-Celebration.png
END:VEVENT
BEGIN:VEVENT
DTSTART;TZID=America/New_York:20260608T193000
DTEND;TZID=America/New_York:20260609T093000
DTSTAMP:20260420T235656
CREATED:20260331T190436Z
LAST-MODIFIED:20260331T190449Z
UID:10007830-1780947000-1780997400@carrollcountyartscouncil.org
SUMMARY:Carroll Singers Presents “Gather At the River”
DESCRIPTION:TicketsCarroll Singers Presents “Gather At the River” on Monday & Tuesday\, June 8th & 9th at 7:30 at Westminster High School\, 1225 Washington Rd\, Westminster MD. The songs refer to rivers in some way and in a variety of musical styles. In addition to our regular instrumentalists\, some songs will have additional accompaniment. Some of the songs are: Deep River\, Cry Me a River\, Ain’t No Mountain High Enough\, Shenandoah and I’ve Got Peace Like a River. These concerts are made possible by a grant from the Maryland State Arts Council and the Carroll County Arts Council. Tickets: $15 Adults ($12 in advance)\, $9 Students ($7 in advance)\, children under 6 are free. Tickets available at: The Carroll Arts Center\, Menchey Music\, and from Carroll Singers members. For more info\, call 410-259-3726.
URL:https://carrollcountyartscouncil.org/event/carrollsingers-gather-at-the-river-concert/
LOCATION:Westminster High School\, 1225 Washington Road\, Westminster\, MD\, 21157\, United States
CATEGORIES:Community Arts Events
ATTACH;FMTTYPE=image/jpeg:https://carrollcountyartscouncil.org/wp-content/uploads/2026/03/Carroll-Singers-2025-scaled.jpg
ORGANIZER;CN="Carroll Singers":MAILTO:glenn.goff@gmail.com
END:VEVENT
END:VCALENDAR