BEGIN:VCALENDAR
VERSION:2.0
PRODID:-//Carroll County Arts Council - ECPv6.15.20//NONSGML v1.0//EN
CALSCALE:GREGORIAN
METHOD:PUBLISH
X-WR-CALNAME:Carroll County Arts Council
X-ORIGINAL-URL:https://carrollcountyartscouncil.org
X-WR-CALDESC:Events for Carroll County Arts Council
REFRESH-INTERVAL;VALUE=DURATION:PT1H
X-Robots-Tag:noindex
X-PUBLISHED-TTL:PT1H
BEGIN:VTIMEZONE
TZID:America/New_York
BEGIN:DAYLIGHT
TZOFFSETFROM:-0500
TZOFFSETTO:-0400
TZNAME:EDT
DTSTART:20250309T070000
END:DAYLIGHT
BEGIN:STANDARD
TZOFFSETFROM:-0400
TZOFFSETTO:-0500
TZNAME:EST
DTSTART:20251102T060000
END:STANDARD
BEGIN:DAYLIGHT
TZOFFSETFROM:-0500
TZOFFSETTO:-0400
TZNAME:EDT
DTSTART:20260308T070000
END:DAYLIGHT
BEGIN:STANDARD
TZOFFSETFROM:-0400
TZOFFSETTO:-0500
TZNAME:EST
DTSTART:20261101T060000
END:STANDARD
BEGIN:DAYLIGHT
TZOFFSETFROM:-0500
TZOFFSETTO:-0400
TZNAME:EDT
DTSTART:20270314T070000
END:DAYLIGHT
BEGIN:STANDARD
TZOFFSETFROM:-0400
TZOFFSETTO:-0500
TZNAME:EST
DTSTART:20271107T060000
END:STANDARD
END:VTIMEZONE
BEGIN:VEVENT
DTSTART;TZID=America/New_York:20260425T103000
DTEND;TZID=America/New_York:20260425T113000
DTSTAMP:20260420T151535
CREATED:20260227T201552Z
LAST-MODIFIED:20260303T153817Z
UID:10007690-1777113000-1777116600@carrollcountyartscouncil.org
SUMMARY:KIDS WORKSHOP: Earth Day Art Celebration
DESCRIPTION:Earth Day Art Celebration with Abrakadoodle and Artist Benjamin Kapinos! \nDig into creativity as we explore the amazing layers of soil beneath our feet! From rich topsoil to rocky bedrock\, learn how each layer helps plants grow and keeps our planet healthy. Join us to paint and create your own colorful soil layer art to celebrate the earth we all share! \nRegister
URL:https://carrollcountyartscouncil.org/event/kids-class-earth-day-art-celebration-with-benjamin-kapinos/
LOCATION:Carroll Arts Center
CATEGORIES:Arts Center Events,Community Arts Events,Youth Classes
ATTACH;FMTTYPE=image/png:https://carrollcountyartscouncil.org/wp-content/uploads/2026/02/Abrakadoodle-April-25th-Workshop-Earth-Day-.png
ORGANIZER;CN="Carroll County Arts Council":MAILTO:info@carrollcountyartscouncil.org
END:VEVENT
BEGIN:VEVENT
DTSTART;TZID=America/New_York:20260502T100000
DTEND;TZID=America/New_York:20260523T110000
DTSTAMP:20260420T151535
CREATED:20260310T144758Z
LAST-MODIFIED:20260310T144758Z
UID:10007691-1777716000-1779534000@carrollcountyartscouncil.org
SUMMARY:KIDS WORKSHOP: Take the Stage Drama Class Elementary
DESCRIPTION:Take the Stage! Weekly Drama Class with Lora Strosnider \nSaturdays\, May 2 – May 23\, 10:00AM – 11:00AM \nFour weeks \nFor Ages: 8-10 \n$100 \nThis drama class is designed to boost students self-esteem and explore their creativity without the pressure of learning lines. The young actors-to-be will learn basic theatre skills\, public speaking skills\, short & long term improvisation\, and spontaneity through games and exercises. All in a fun\, fast-paced\, and supportive environment. \nMembers receive 10% off with promo code MEMBER \nPayment plan available: $50 deposit plus 2 payments of $25.00\, paid every four weeks. \nFull and partial scholarships are available through the Tom Holder Memorial Scholarship Program\, apply through the brief\, online form here. \nRegister
URL:https://carrollcountyartscouncil.org/event/kids-workshop-take-the-stage-drama-class-elementary/
LOCATION:Carroll Arts Center
CATEGORIES:Arts Center Events,Community Arts Events,Youth Classes
ATTACH;FMTTYPE=image/png:https://carrollcountyartscouncil.org/wp-content/uploads/2026/02/1920x1080.png
ORGANIZER;CN="Carroll County Arts Council":MAILTO:info@carrollcountyartscouncil.org
END:VEVENT
BEGIN:VEVENT
DTSTART;TZID=America/New_York:20260509T103000
DTEND;TZID=America/New_York:20260509T113000
DTSTAMP:20260420T151535
CREATED:20260227T200506Z
LAST-MODIFIED:20260303T153309Z
UID:10007749-1778322600-1778326200@carrollcountyartscouncil.org
SUMMARY:KIDS WORKSHOP: Mother’s Day Art Celebration
DESCRIPTION:FFor kids ages 3-5For Kids ages 3-5. \nCelebrate Mom with Abrakadoodle! \nHave fun while we celebrate this special day! Share your creativity as we make a beautiful portrait of your mom or anyone who’s special to you. We’ll color\, roll\, pinch and pull clay\, adding bright and colorful touches to show your love! \nMay 9th \n10:30AM-11:30AM \n$35 \nButton Text
URL:https://carrollcountyartscouncil.org/event/kids-class-mothers-day-art-celebration/
LOCATION:Carroll Arts Center
CATEGORIES:Arts Center Events,Community Arts Events,Youth Classes
ATTACH;FMTTYPE=image/png:https://carrollcountyartscouncil.org/wp-content/uploads/2026/02/Mothers-Day-Reading-Activity-English-Language-Arts-Presentation-in-Red-Watercolor-Style.png
ORGANIZER;CN="Carroll County Arts Council":MAILTO:info@carrollcountyartscouncil.org
END:VEVENT
BEGIN:VEVENT
DTSTART;TZID=America/New_York:20260706T090000
DTEND;TZID=America/New_York:20260717T130000
DTSTAMP:20260420T151535
CREATED:20260303T151917Z
LAST-MODIFIED:20260312T182053Z
UID:10007800-1783328400-1784293200@carrollcountyartscouncil.org
SUMMARY:KIDS SUMMER CAMP: Young Artist Studio
DESCRIPTION:Young Artist Studio Camp\nAges: 9 – 13\,  $250 \nYoung Artist Studio Camp is a hands-on\, creativity-filled experience designed for young artists to explore a wide variety of materials\, techniques\, and artistic styles in a supportive studio environment. Campers will experiment with drawing\, painting\, sculpture\, mixed media\, and more while learning foundational art concepts such as color theory\, texture\, composition\, and creative problem-solving. \nEach day encourages imagination\, self-expression\, and skill development through guided projects and open-ended exploration. Students will build confidence in their artistic abilities while discovering new ways to communicate ideas visually. \nThe camp culminates in a mini showcase where campers can share their artwork with family and friends\, celebrating their creativity and growth. Perfect for budding artists of all experience levels\, this camp nurtures curiosity\, confidence\, and a lifelong love of art. \nPayment plan available: $50 deposit plus 4 payments of $50.00\, paid every four weeks.\nJul 6 – 17th\, 2026\nMon – Fri from 9:00 am – 1:00 pm \nRegister
URL:https://carrollcountyartscouncil.org/event/kids-summer-camp-young-artist-studio/
LOCATION:Carroll Arts Center
CATEGORIES:Arts Center Events,Community Arts Events,Summer Camps,Youth Classes
ATTACH;FMTTYPE=image/png:https://carrollcountyartscouncil.org/wp-content/uploads/2026/03/FB-scaled.png
ORGANIZER;CN="Carroll County Arts Council":MAILTO:info@carrollcountyartscouncil.org
END:VEVENT
BEGIN:VEVENT
DTSTART;TZID=America/New_York:20260713T090000
DTEND;TZID=America/New_York:20260717T120000
DTSTAMP:20260420T151535
CREATED:20260303T151536Z
LAST-MODIFIED:20260312T181937Z
UID:10007801-1783933200-1784289600@carrollcountyartscouncil.org
SUMMARY:KIDS SUMMER CAMP: Super-Tastic Cartoons (Afternoon Session)
DESCRIPTION:Super-Tastic Cartoons Camp with Benjamin Kapinos \nAges: 5 – 12\,  $180 \nDo you like to doodle? From superheroes to super-pets\, we will turn our doodles into cartoons. Improve your skills and learn new ones while you create a comic strip\, a graphic novel or a single-panel comic! We will create cartoon vehicles\, cartoon robots and an enchanted house while we discover that all characters have a unique way to tell a story! Between speech balloons and Claymation\, we will learn about the art of cartooning and its different expressions. This camp isn’t just a drawing adventure; we will use a variety of art materials to tell our cartoon stories! \n5 Days\, 2 3-hour sessions per day \n9 AM-12 PM 12:30 PM – 3:30 PM \n$180\, $350 for both sessions (email tatiana@carrollcountyartscouncil for code) \nPayment plan available: $50 deposit plus 4 payments of $32.50\, paid every four weeks.\n9:00 am – 12:00 pm \nRegister
URL:https://carrollcountyartscouncil.org/event/kids-summer-camp-super-tastic-cartoons/
LOCATION:Carroll Arts Center
CATEGORIES:Arts Center Events,Community Arts Events,Summer Camps,Youth Classes
ATTACH;FMTTYPE=image/png:https://carrollcountyartscouncil.org/wp-content/uploads/2026/03/2-scaled.png
ORGANIZER;CN="Carroll County Arts Council":MAILTO:info@carrollcountyartscouncil.org
END:VEVENT
END:VCALENDAR