BEGIN:VCALENDAR
VERSION:2.0
PRODID:-//Carroll County Arts Council - ECPv6.15.20//NONSGML v1.0//EN
CALSCALE:GREGORIAN
METHOD:PUBLISH
X-WR-CALNAME:Carroll County Arts Council
X-ORIGINAL-URL:https://carrollcountyartscouncil.org
X-WR-CALDESC:Events for Carroll County Arts Council
REFRESH-INTERVAL;VALUE=DURATION:PT1H
X-Robots-Tag:noindex
X-PUBLISHED-TTL:PT1H
BEGIN:VTIMEZONE
TZID:America/New_York
BEGIN:DAYLIGHT
TZOFFSETFROM:-0500
TZOFFSETTO:-0400
TZNAME:EDT
DTSTART:20250309T070000
END:DAYLIGHT
BEGIN:STANDARD
TZOFFSETFROM:-0400
TZOFFSETTO:-0500
TZNAME:EST
DTSTART:20251102T060000
END:STANDARD
BEGIN:DAYLIGHT
TZOFFSETFROM:-0500
TZOFFSETTO:-0400
TZNAME:EDT
DTSTART:20260308T070000
END:DAYLIGHT
BEGIN:STANDARD
TZOFFSETFROM:-0400
TZOFFSETTO:-0500
TZNAME:EST
DTSTART:20261101T060000
END:STANDARD
BEGIN:DAYLIGHT
TZOFFSETFROM:-0500
TZOFFSETTO:-0400
TZNAME:EDT
DTSTART:20270314T070000
END:DAYLIGHT
BEGIN:STANDARD
TZOFFSETFROM:-0400
TZOFFSETTO:-0500
TZNAME:EST
DTSTART:20271107T060000
END:STANDARD
END:VTIMEZONE
BEGIN:VEVENT
DTSTART;TZID=America/New_York:20260620T100000
DTEND;TZID=America/New_York:20260620T150000
DTSTAMP:20260420T200757
CREATED:20260227T195929Z
LAST-MODIFIED:20260303T153217Z
UID:10007751-1781949600-1781967600@carrollcountyartscouncil.org
SUMMARY:ADULT WORKSHOP: Ferns\, Fungi and the Forest Floor
DESCRIPTION:With Instructor Gayle Matheus and Off Track Art \nThis workshop will incorporate both wet felting and dry needle felting to create various mushrooms and ferns\, small flowers and other debris found on a forest floor. \nSeveral different types of mushrooms call for different methods. Students will learn how to use a resist to create a conical mushroom cap as well as flat wet-felting and shaping. Students will learn how to create ferns using wire and wool and heat and bond product. \nRegister
URL:https://carrollcountyartscouncil.org/event/workshop-ferns-fungi-and-the-forest-floor-with-gayle-mathues-off-track-art/
LOCATION:Carroll Arts Center
CATEGORIES:Adult Classes,Arts Center Events,Community Arts Events
ATTACH;FMTTYPE=image/png:https://carrollcountyartscouncil.org/wp-content/uploads/2026/02/2-2-scaled.png
ORGANIZER;CN="Carroll County Arts Council":MAILTO:info@carrollcountyartscouncil.org
END:VEVENT
BEGIN:VEVENT
DTSTART;TZID=America/New_York:20260622T100000
DTEND;TZID=America/New_York:20260717T140000
DTSTAMP:20260420T200757
CREATED:20260310T143021Z
LAST-MODIFIED:20260312T182134Z
UID:10007758-1782122400-1784296800@carrollcountyartscouncil.org
SUMMARY:TEEN WORKSHOP: High School Portfolio Development
DESCRIPTION:This comprehensive workshop is designed to help high school students prepare a strong\, competitive portfolio for college art program applications. Students will receive guided instruction on selecting and refining artwork\, developing cohesive bodies of work\, and presenting their pieces professionally for submission. \nParticipants will learn what colleges and universities look for in an art portfolio\, including technical skill\, conceptual development\, originality\, and process documentation. The workshop will cover portfolio organization\, photographing artwork\, writing effective artist statements\, and understanding digital submission platforms such as SlideRoom. \nThrough personalized feedback\, group critiques\, and one-on-one guidance\, students will leave with a clearer direction for their artistic voice and a structured plan for completing and submitting their portfolio on time. \nIdeal for juniors and seniors planning to apply to art schools\, design programs\, or fine arts departments\, this workshop equips students with the tools\, confidence\, and strategic insight needed to present their work at a professional level. \nPayment plan available: $50 deposit plus 4 payments of $75.00\, paid every four weeks. \nFull and partial scholarships are available through the Tom Holder Scholarship\, apply through simple\, online form here. \nRegister
URL:https://carrollcountyartscouncil.org/event/high-school-portfolio-development-workshop/
LOCATION:Carroll Arts Center
CATEGORIES:Arts Center Events,Community Arts Events,Summer Camps,Youth Classes
ATTACH;FMTTYPE=image/png:https://carrollcountyartscouncil.org/wp-content/uploads/2026/02/FB-scaled.png
ORGANIZER;CN="Carroll County Arts Council":MAILTO:info@carrollcountyartscouncil.org
END:VEVENT
END:VCALENDAR