BEGIN:VCALENDAR
VERSION:2.0
PRODID:-//Carroll County Arts Council - ECPv6.15.20//NONSGML v1.0//EN
CALSCALE:GREGORIAN
METHOD:PUBLISH
X-ORIGINAL-URL:https://carrollcountyartscouncil.org
X-WR-CALDESC:Events for Carroll County Arts Council
REFRESH-INTERVAL;VALUE=DURATION:PT1H
X-Robots-Tag:noindex
X-PUBLISHED-TTL:PT1H
BEGIN:VTIMEZONE
TZID:America/New_York
BEGIN:DAYLIGHT
TZOFFSETFROM:-0500
TZOFFSETTO:-0400
TZNAME:EDT
DTSTART:20250309T070000
END:DAYLIGHT
BEGIN:STANDARD
TZOFFSETFROM:-0400
TZOFFSETTO:-0500
TZNAME:EST
DTSTART:20251102T060000
END:STANDARD
BEGIN:DAYLIGHT
TZOFFSETFROM:-0500
TZOFFSETTO:-0400
TZNAME:EDT
DTSTART:20260308T070000
END:DAYLIGHT
BEGIN:STANDARD
TZOFFSETFROM:-0400
TZOFFSETTO:-0500
TZNAME:EST
DTSTART:20261101T060000
END:STANDARD
BEGIN:DAYLIGHT
TZOFFSETFROM:-0500
TZOFFSETTO:-0400
TZNAME:EDT
DTSTART:20270314T070000
END:DAYLIGHT
BEGIN:STANDARD
TZOFFSETFROM:-0400
TZOFFSETTO:-0500
TZNAME:EST
DTSTART:20271107T060000
END:STANDARD
END:VTIMEZONE
BEGIN:VEVENT
DTSTART;TZID=America/New_York:20260502T100000
DTEND;TZID=America/New_York:20260523T110000
DTSTAMP:20260420T183129
CREATED:20260310T144758Z
LAST-MODIFIED:20260310T144758Z
UID:10007691-1777716000-1779534000@carrollcountyartscouncil.org
SUMMARY:KIDS WORKSHOP: Take the Stage Drama Class Elementary
DESCRIPTION:Take the Stage! Weekly Drama Class with Lora Strosnider \nSaturdays\, May 2 – May 23\, 10:00AM – 11:00AM \nFour weeks \nFor Ages: 8-10 \n$100 \nThis drama class is designed to boost students self-esteem and explore their creativity without the pressure of learning lines. The young actors-to-be will learn basic theatre skills\, public speaking skills\, short & long term improvisation\, and spontaneity through games and exercises. All in a fun\, fast-paced\, and supportive environment. \nMembers receive 10% off with promo code MEMBER \nPayment plan available: $50 deposit plus 2 payments of $25.00\, paid every four weeks. \nFull and partial scholarships are available through the Tom Holder Memorial Scholarship Program\, apply through the brief\, online form here. \nRegister
URL:https://carrollcountyartscouncil.org/event/kids-workshop-take-the-stage-drama-class-elementary/
LOCATION:Carroll Arts Center
CATEGORIES:Arts Center Events,Community Arts Events,Youth Classes
ATTACH;FMTTYPE=image/png:https://carrollcountyartscouncil.org/wp-content/uploads/2026/02/1920x1080.png
ORGANIZER;CN="Carroll County Arts Council":MAILTO:info@carrollcountyartscouncil.org
END:VEVENT
BEGIN:VEVENT
DTSTART;TZID=America/New_York:20260523T130000
DTEND;TZID=America/New_York:20260523T150000
DTSTAMP:20260420T183129
CREATED:20260227T200151Z
LAST-MODIFIED:20260417T230115Z
UID:10007750-1779541200-1779548400@carrollcountyartscouncil.org
SUMMARY:ADULT WORKSHOP: The Art of  Zentangle®
DESCRIPTION:The Art of Zentangle®: A Journey into Mindful Creativity \nDiscover the Zentangle® Method—an easy-to-learn\, meditative\, and joyful way to create beautiful art through simple\, structured patterns. In this relaxing class\, you’ll learn how simple lines and patterns can flow together to create stunning art. Each stroke becomes a moment of mindfulness\, helping you unwind\, focus\, and reconnect with your creative spirit. You’ll leave with beautiful finished pieces and a sense of joy. No prior artistic experience is needed—if you can hold a pen\, you can Zentangle®! All supplies are included. \nJaqui MacMillan believes that healing happens through art and music. In the early 1980s\, she earned her degree in Graphic Art\, Design\, and Fine Art from the University of Maryland. Since 1987\, she has been teaching private and group art and craft lessons in a wide variety of mediums. Her artwork has won multiple awards and has been published and distributed around the world. As a double-certified Zentangle® teacher (CZT\, 2016 and 2019)\, Jaqui teaches at senior centers\, art centers\, community colleges\, and at her shop and studio—Magnolia House Studios in Westminster\, Maryland. \nRegister
URL:https://carrollcountyartscouncil.org/event/workshop-the-art-of-zentangle/
LOCATION:Carroll Arts Center
CATEGORIES:Adult Classes,Arts Center Events,Community Arts Events
ATTACH;FMTTYPE=image/png:https://carrollcountyartscouncil.org/wp-content/uploads/2026/02/zentangle-1.png
ORGANIZER;CN="Carroll County Arts Council":MAILTO:info@carrollcountyartscouncil.org
END:VEVENT
END:VCALENDAR